Package: RProtoBufLib Version: 2.18.0 Command: /Library/Frameworks/R.framework/Resources/bin/R CMD check --install=check:RProtoBufLib.install-out.txt --library=/Library/Frameworks/R.framework/Resources/library --no-vignettes --timings RProtoBufLib_2.18.0.tar.gz StartedAt: 2025-01-31 09:13:40 -0500 (Fri, 31 Jan 2025) EndedAt: 2025-01-31 09:14:16 -0500 (Fri, 31 Jan 2025) EllapsedTime: 36.2 seconds RetCode: 0 Status: WARNINGS CheckDir: RProtoBufLib.Rcheck Warnings: 2