Package: RProtoBufLib Version: 2.18.0 Command: /home/biocbuild/R/R/bin/R CMD INSTALL RProtoBufLib StartedAt: 2025-01-30 20:05:34 -0000 (Thu, 30 Jan 2025) EndedAt: 2025-01-30 20:12:12 -0000 (Thu, 30 Jan 2025) EllapsedTime: 398.2 seconds RetCode: 0 Status: OK