Package: RTCGA Version: 1.36.0 Command: rm -rf RTCGA.buildbin-libdir && mkdir RTCGA.buildbin-libdir && F:\biocbuild\bbs-3.20-bioc\R\bin\R.exe CMD INSTALL --build --library=RTCGA.buildbin-libdir RTCGA_1.36.0.tar.gz StartedAt: 2025-02-04 09:24:08 -0500 (Tue, 04 Feb 2025) EndedAt: 2025-02-04 09:24:36 -0500 (Tue, 04 Feb 2025) EllapsedTime: 28.3 seconds RetCode: 0 Status: OK PackageFile: RTCGA_1.36.0.zip PackageFileSize: 2.539 MiB