Package: RTCGA Version: 1.36.0 Command: chmod a+r RTCGA -R && F:\biocbuild\bbs-3.20-bioc\R\bin\R.exe CMD build --keep-empty-dirs --no-resave-data RTCGA StartedAt: 2025-02-03 21:48:23 -0500 (Mon, 03 Feb 2025) EndedAt: 2025-02-03 21:49:02 -0500 (Mon, 03 Feb 2025) EllapsedTime: 39.4 seconds RetCode: 0 Status: OK PackageFile: RTCGA_1.36.0.tar.gz PackageFileSize: 2.437 MiB