Package: RTCGA Version: 1.36.0 Command: F:\biocbuild\bbs-3.20-bioc\R\bin\R.exe CMD INSTALL RTCGA StartedAt: 2025-02-03 16:27:20 -0500 (Mon, 03 Feb 2025) EndedAt: 2025-02-03 16:27:39 -0500 (Mon, 03 Feb 2025) EllapsedTime: 18.7 seconds RetCode: 0 Status: OK