Package: RTCGA Version: 1.36.0 Command: /home/biocbuild/R/R/bin/R CMD build --keep-empty-dirs --no-resave-data RTCGA StartedAt: 2025-02-04 02:28:49 -0000 (Tue, 04 Feb 2025) EndedAt: 2025-02-04 02:29:11 -0000 (Tue, 04 Feb 2025) EllapsedTime: 22.0 seconds RetCode: 0 Status: OK PackageFile: RTCGA_1.36.0.tar.gz PackageFileSize: 2.5 MiB