Package: RTCGA Version: 1.36.0 Command: /home/biocbuild/R/R/bin/R CMD check --install=check:RTCGA.install-out.txt --library=/home/biocbuild/R/R/site-library --no-vignettes --timings RTCGA_1.36.0.tar.gz StartedAt: 2025-02-04 10:38:15 -0000 (Tue, 04 Feb 2025) EndedAt: 2025-02-04 10:41:23 -0000 (Tue, 04 Feb 2025) EllapsedTime: 188.5 seconds RetCode: 0 Status: OK CheckDir: RTCGA.Rcheck Warnings: 0