Package: RTCGA Version: 1.36.0 Command: /home/biocbuild/R/R/bin/R CMD INSTALL RTCGA StartedAt: 2025-02-03 21:22:47 -0000 (Mon, 03 Feb 2025) EndedAt: 2025-02-03 21:22:59 -0000 (Mon, 03 Feb 2025) EllapsedTime: 12.5 seconds RetCode: 0 Status: OK