Package: RTCGAToolbox Version: 2.36.0 Command: chmod a+r RTCGAToolbox -R && F:\biocbuild\bbs-3.20-bioc\R\bin\R.exe CMD build --keep-empty-dirs --no-resave-data RTCGAToolbox StartedAt: 2025-02-13 21:26:50 -0500 (Thu, 13 Feb 2025) EndedAt: 2025-02-13 21:28:30 -0500 (Thu, 13 Feb 2025) EllapsedTime: 99.8 seconds RetCode: 0 Status: OK PackageFile: RTCGAToolbox_2.36.0.tar.gz PackageFileSize: 2.33 <A href="http://en.wikipedia.org/wiki/MiB" target="_blank">MiB</A>