Package: RTNduals Version: 1.30.0 Command: /Library/Frameworks/R.framework/Resources/bin/R CMD check --install=check:RTNduals.install-out.txt --library=/Library/Frameworks/R.framework/Resources/library --no-vignettes --timings RTNduals_1.30.0.tar.gz StartedAt: 2025-02-01 07:31:59 -0500 (Sat, 01 Feb 2025) EndedAt: 2025-02-01 07:39:10 -0500 (Sat, 01 Feb 2025) EllapsedTime: 430.9 seconds RetCode: 0 Status: OK CheckDir: RTNduals.Rcheck Warnings: 0