Package: RTNduals Version: 1.30.0 Command: /Library/Frameworks/R.framework/Resources/bin/R CMD check --install=check:RTNduals.install-out.txt --library=/Library/Frameworks/R.framework/Resources/library --no-vignettes --timings RTNduals_1.30.0.tar.gz StartedAt: 2025-01-31 09:20:20 -0500 (Fri, 31 Jan 2025) EndedAt: 2025-01-31 09:33:24 -0500 (Fri, 31 Jan 2025) EllapsedTime: 784.1 seconds RetCode: 0 Status: OK CheckDir: RTNduals.Rcheck Warnings: 0