Package: RTNduals Version: 1.30.0 Command: /home/biocbuild/R/R/bin/R CMD build --keep-empty-dirs --no-resave-data RTNduals StartedAt: 2025-01-31 02:19:48 -0000 (Fri, 31 Jan 2025) EndedAt: 2025-01-31 02:22:24 -0000 (Fri, 31 Jan 2025) EllapsedTime: 156.2 seconds RetCode: 0 Status: OK PackageFile: RTNduals_1.30.0.tar.gz PackageFileSize: 610.4 KiB