Package: RTNsurvival Version: 1.30.0 Command: /Library/Frameworks/R.framework/Resources/bin/R CMD build --keep-empty-dirs --no-resave-data RTNsurvival StartedAt: 2025-02-03 21:53:08 -0500 (Mon, 03 Feb 2025) EndedAt: 2025-02-03 21:54:52 -0500 (Mon, 03 Feb 2025) EllapsedTime: 103.9 seconds RetCode: 0 Status: OK PackageFile: RTNsurvival_1.30.0.tar.gz PackageFileSize: 732.9 KiB