Package: RTNsurvival Version: 1.30.0 Command: /Library/Frameworks/R.framework/Resources/bin/R CMD INSTALL RTNsurvival StartedAt: 2025-02-03 16:43:39 -0500 (Mon, 03 Feb 2025) EndedAt: 2025-02-03 16:44:50 -0500 (Mon, 03 Feb 2025) EllapsedTime: 70.9 seconds RetCode: 0 Status: OK