Package: RTNsurvival Version: 1.30.0 Command: /home/biocbuild/bbs-3.20-bioc/R/bin/R CMD check --install=check:RTNsurvival.install-out.txt --library=/home/biocbuild/bbs-3.20-bioc/R/site-library --timings RTNsurvival_1.30.0.tar.gz StartedAt: 2025-02-04 02:00:52 -0500 (Tue, 04 Feb 2025) EndedAt: 2025-02-04 02:04:35 -0500 (Tue, 04 Feb 2025) EllapsedTime: 223.2 seconds RetCode: 0 Status: OK CheckDir: RTNsurvival.Rcheck Warnings: 0