Package: RTNsurvival Version: 1.30.0 Command: /home/biocbuild/R/R/bin/R CMD build --keep-empty-dirs --no-resave-data RTNsurvival StartedAt: 2025-02-04 02:29:11 -0000 (Tue, 04 Feb 2025) EndedAt: 2025-02-04 02:30:20 -0000 (Tue, 04 Feb 2025) EllapsedTime: 69.1 seconds RetCode: 0 Status: OK PackageFile: RTNsurvival_1.30.0.tar.gz PackageFileSize: 757.7 KiB