Package: RTNsurvival Version: 1.30.0 Command: /home/biocbuild/R/R/bin/R CMD check --install=check:RTNsurvival.install-out.txt --library=/home/biocbuild/R/R/site-library --no-vignettes --timings RTNsurvival_1.30.0.tar.gz StartedAt: 2025-02-18 10:42:21 -0000 (Tue, 18 Feb 2025) EndedAt: 2025-02-18 10:46:46 -0000 (Tue, 18 Feb 2025) EllapsedTime: 264.5 seconds RetCode: 0 Status: OK CheckDir: RTNsurvival.Rcheck Warnings: 0