Package: RTopper Version: 1.52.0 Command: /Library/Frameworks/R.framework/Resources/bin/R CMD build --keep-empty-dirs --no-resave-data RTopper StartedAt: 2025-02-03 21:53:12 -0500 (Mon, 03 Feb 2025) EndedAt: 2025-02-03 21:55:28 -0500 (Mon, 03 Feb 2025) EllapsedTime: 135.2 seconds RetCode: 0 Status: OK PackageFile: RTopper_1.52.0.tar.gz PackageFileSize: 1.349 MiB