Package: RTopper Version: 1.52.0 Command: /Library/Frameworks/R.framework/Resources/bin/R CMD check --install=check:RTopper.install-out.txt --library=/Library/Frameworks/R.framework/Resources/library --no-vignettes --timings RTopper_1.52.0.tar.gz StartedAt: 2025-02-04 09:21:13 -0500 (Tue, 04 Feb 2025) EndedAt: 2025-02-04 09:23:55 -0500 (Tue, 04 Feb 2025) EllapsedTime: 162.5 seconds RetCode: 0 Status: OK CheckDir: RTopper.Rcheck Warnings: 0