Package: RUVSeq Version: 1.40.0 Command: /Library/Frameworks/R.framework/Resources/bin/R CMD build --keep-empty-dirs --no-resave-data RUVSeq StartedAt: 2025-02-04 07:07:49 -0500 (Tue, 04 Feb 2025) EndedAt: 2025-02-04 07:09:48 -0500 (Tue, 04 Feb 2025) EllapsedTime: 119.2 seconds RetCode: 0 Status: OK PackageFile: RUVSeq_1.40.0.tar.gz PackageFileSize: 495.9 KiB