Package: RUVSeq Version: 1.40.0 Command: /Library/Frameworks/R.framework/Resources/bin/R CMD check --install=check:RUVSeq.install-out.txt --library=/Library/Frameworks/R.framework/Resources/library --no-vignettes --timings RUVSeq_1.40.0.tar.gz StartedAt: 2025-02-05 08:31:56 -0500 (Wed, 05 Feb 2025) EndedAt: 2025-02-05 08:37:40 -0500 (Wed, 05 Feb 2025) EllapsedTime: 343.7 seconds RetCode: 0 Status: OK CheckDir: RUVSeq.Rcheck Warnings: 0