Package: RUVSeq Version: 1.40.0 Command: /Library/Frameworks/R.framework/Resources/bin/R CMD build --keep-empty-dirs --no-resave-data RUVSeq StartedAt: 2025-02-03 21:54:13 -0500 (Mon, 03 Feb 2025) EndedAt: 2025-02-03 21:58:00 -0500 (Mon, 03 Feb 2025) EllapsedTime: 226.5 seconds RetCode: 0 Status: OK PackageFile: RUVSeq_1.40.0.tar.gz PackageFileSize: 495.8 KiB