Package: RUVSeq Version: 1.40.0 Command: F:\biocbuild\bbs-3.20-bioc\R\bin\R.exe CMD check --no-multiarch --install=check:RUVSeq.install-out.txt --library=F:\biocbuild\bbs-3.20-bioc\R\library --no-vignettes --timings RUVSeq_1.40.0.tar.gz StartedAt: 2025-02-04 05:48:29 -0500 (Tue, 04 Feb 2025) EndedAt: 2025-02-04 05:54:35 -0500 (Tue, 04 Feb 2025) EllapsedTime: 366.1 seconds RetCode: 0 Status: OK CheckDir: RUVSeq.Rcheck Warnings: 0