Package: RUVnormalize Version: 1.40.0 Command: rm -rf RUVnormalize.buildbin-libdir && mkdir RUVnormalize.buildbin-libdir && /Users/biocbuild/BBS/utils/build-universal.sh RUVnormalize_1.40.0.tar.gz /Library/Frameworks/R.framework/Resources/bin/R RUVnormalize.buildbin-libdir StartedAt: 2025-02-05 17:35:56 -0500 (Wed, 05 Feb 2025) EndedAt: 2025-02-05 17:36:00 -0500 (Wed, 05 Feb 2025) EllapsedTime: 4.4 seconds RetCode: 0 Status: OK PackageFile: RUVnormalize_1.40.0.tgz PackageFileSize: 221.4 KiB