Package: RUVnormalize Version: 1.40.0 Command: /Library/Frameworks/R.framework/Resources/bin/R CMD build --keep-empty-dirs --no-resave-data RUVnormalize StartedAt: 2025-02-04 07:07:33 -0500 (Tue, 04 Feb 2025) EndedAt: 2025-02-04 07:07:58 -0500 (Tue, 04 Feb 2025) EllapsedTime: 24.8 seconds RetCode: 0 Status: OK PackageFile: RUVnormalize_1.40.0.tar.gz PackageFileSize: 190.7 KiB