Package: RUVnormalize Version: 1.40.0 Command: /Library/Frameworks/R.framework/Resources/bin/R CMD check --install=check:RUVnormalize.install-out.txt --library=/Library/Frameworks/R.framework/Resources/library --no-vignettes --timings RUVnormalize_1.40.0.tar.gz StartedAt: 2025-02-05 08:31:27 -0500 (Wed, 05 Feb 2025) EndedAt: 2025-02-05 08:32:14 -0500 (Wed, 05 Feb 2025) EllapsedTime: 47.5 seconds RetCode: 0 Status: OK CheckDir: RUVnormalize.Rcheck Warnings: 0