Package: RUVnormalize Version: 1.40.0 Command: /Library/Frameworks/R.framework/Resources/bin/R CMD INSTALL RUVnormalize StartedAt: 2025-02-17 15:04:12 -0500 (Mon, 17 Feb 2025) EndedAt: 2025-02-17 15:04:44 -0500 (Mon, 17 Feb 2025) EllapsedTime: 31.4 seconds RetCode: 0 Status: OK