Package: RUVnormalize Version: 1.40.0 Command: /home/biocbuild/R/R/bin/R CMD build --keep-empty-dirs --no-resave-data RUVnormalize StartedAt: 2025-02-04 02:31:00 -0000 (Tue, 04 Feb 2025) EndedAt: 2025-02-04 02:31:21 -0000 (Tue, 04 Feb 2025) EllapsedTime: 21.0 seconds RetCode: 0 Status: OK PackageFile: RUVnormalize_1.40.0.tar.gz PackageFileSize: 186.9 KiB