Package: RadioGx Version: 2.10.0 Command: /Library/Frameworks/R.framework/Resources/bin/R CMD check --install=check:RadioGx.install-out.txt --library=/Library/Frameworks/R.framework/Resources/library --no-vignettes --timings RadioGx_2.10.0.tar.gz StartedAt: 2024-11-20 01:33:33 -0500 (Wed, 20 Nov 2024) EndedAt: 2024-11-20 01:40:34 -0500 (Wed, 20 Nov 2024) EllapsedTime: 420.6 seconds RetCode: 0 Status: OK CheckDir: RadioGx.Rcheck Warnings: 0