Package: RadioGx Version: 2.10.0 Command: rm -rf RadioGx.buildbin-libdir && mkdir RadioGx.buildbin-libdir && /Users/biocbuild/BBS/utils/build-universal.sh RadioGx_2.10.0.tar.gz /Library/Frameworks/R.framework/Resources/bin/R RadioGx.buildbin-libdir StartedAt: 2025-01-31 13:27:22 -0500 (Fri, 31 Jan 2025) EndedAt: 2025-01-31 13:28:46 -0500 (Fri, 31 Jan 2025) EllapsedTime: 83.7 seconds RetCode: 0 Status: OK PackageFile: RadioGx_2.10.0.tgz PackageFileSize: 4.49 MiB