Package: RadioGx Version: 2.10.0 Command: /Library/Frameworks/R.framework/Resources/bin/R CMD INSTALL RadioGx StartedAt: 2025-01-30 16:20:13 -0500 (Thu, 30 Jan 2025) EndedAt: 2025-01-30 16:21:35 -0500 (Thu, 30 Jan 2025) EllapsedTime: 82.0 seconds RetCode: 0 Status: OK