Package: RadioGx Version: 2.10.0 Command: chmod a+r RadioGx -R && F:\biocbuild\bbs-3.20-bioc\R\bin\R.exe CMD build --keep-empty-dirs --no-resave-data RadioGx StartedAt: 2025-01-30 21:12:35 -0500 (Thu, 30 Jan 2025) EndedAt: 2025-01-30 21:13:49 -0500 (Thu, 30 Jan 2025) EllapsedTime: 74.0 seconds RetCode: 0 Status: OK PackageFile: RadioGx_2.10.0.tar.gz PackageFileSize: 2.736 MiB