Package: RadioGx Version: 2.10.0 Command: F:\biocbuild\bbs-3.20-bioc\R\bin\R.exe CMD INSTALL RadioGx StartedAt: 2025-01-30 16:33:26 -0500 (Thu, 30 Jan 2025) EndedAt: 2025-01-30 16:34:36 -0500 (Thu, 30 Jan 2025) EllapsedTime: 70.0 seconds RetCode: 0 Status: OK