Package: RadioGx Version: 2.10.0 Command: /home/biocbuild/R/R/bin/R CMD build --keep-empty-dirs --no-resave-data RadioGx StartedAt: 2025-01-31 01:58:22 -0000 (Fri, 31 Jan 2025) EndedAt: 2025-01-31 01:59:25 -0000 (Fri, 31 Jan 2025) EllapsedTime: 63.0 seconds RetCode: 0 Status: OK PackageFile: RadioGx_2.10.0.tar.gz PackageFileSize: 2.742 MiB