Package: RadioGx Version: 2.10.0 Command: /home/biocbuild/bbs-3.20-bioc/R/bin/R CMD build --keep-empty-dirs --no-resave-data RadioGx StartedAt: 2024-11-19 21:03:23 -0500 (Tue, 19 Nov 2024) EndedAt: 2024-11-19 21:04:16 -0500 (Tue, 19 Nov 2024) EllapsedTime: 53.2 seconds RetCode: 0 Status: OK PackageFile: RadioGx_2.10.0.tar.gz PackageFileSize: 2.765 MiB