Package: RadioGx Version: 2.10.0 Command: /home/biocbuild/bbs-3.20-bioc/R/bin/R CMD check --install=check:RadioGx.install-out.txt --library=/home/biocbuild/bbs-3.20-bioc/R/site-library --timings RadioGx_2.10.0.tar.gz StartedAt: 2024-11-20 07:59:29 -0500 (Wed, 20 Nov 2024) EndedAt: 2024-11-20 08:03:50 -0500 (Wed, 20 Nov 2024) EllapsedTime: 261.5 seconds RetCode: 0 Status: OK CheckDir: RadioGx.Rcheck Warnings: 0