Package: RaggedExperiment Version: 1.30.0 Command: /home/biocbuild/bbs-3.20-bioc/R/bin/R CMD build --keep-empty-dirs --no-resave-data --md5 RaggedExperiment StartedAt: 2025-02-03 18:52:00 -0500 (Mon, 03 Feb 2025) EndedAt: 2025-02-03 18:52:33 -0500 (Mon, 03 Feb 2025) EllapsedTime: 33.0 seconds RetCode: 0 Status: OK PackageFile: RaggedExperiment_1.30.0.tar.gz PackageFileSize: 687.7 KiB