Package: RaggedExperiment Version: 1.30.0 Command: /home/biocbuild/bbs-3.20-bioc/R/bin/R CMD INSTALL RaggedExperiment StartedAt: 2025-02-03 15:21:22 -0500 (Mon, 03 Feb 2025) EndedAt: 2025-02-03 15:21:43 -0500 (Mon, 03 Feb 2025) EllapsedTime: 20.2 seconds RetCode: 0 Status: OK