Package: RaggedExperiment Version: 1.30.0 Command: F:\biocbuild\bbs-3.20-bioc\R\bin\R.exe CMD check --no-multiarch --install=check:RaggedExperiment.install-out.txt --library=F:\biocbuild\bbs-3.20-bioc\R\library --no-vignettes --timings RaggedExperiment_1.30.0.tar.gz StartedAt: 2025-02-04 05:16:04 -0500 (Tue, 04 Feb 2025) EndedAt: 2025-02-04 05:19:24 -0500 (Tue, 04 Feb 2025) EllapsedTime: 199.6 seconds RetCode: 0 Status: OK CheckDir: RaggedExperiment.Rcheck Warnings: 0