Package: RandomWalkRestartMH Version: 1.26.0 Command: /Library/Frameworks/R.framework/Resources/bin/R CMD build --keep-empty-dirs --no-resave-data RandomWalkRestartMH StartedAt: 2025-02-04 06:12:33 -0500 (Tue, 04 Feb 2025) EndedAt: 2025-02-04 06:12:35 -0500 (Tue, 04 Feb 2025) EllapsedTime: 2.3 seconds RetCode: 1 Status: ERROR PackageFile: None PackageFileSize: NA