Package: RandomWalkRestartMH Version: 1.26.0 Command: /Library/Frameworks/R.framework/Resources/bin/R CMD INSTALL RandomWalkRestartMH StartedAt: 2025-02-03 18:22:59 -0500 (Mon, 03 Feb 2025) EndedAt: 2025-02-03 18:22:59 -0500 (Mon, 03 Feb 2025) EllapsedTime: 0.4 seconds RetCode: 1 Status: ERROR