Package: RandomWalkRestartMH
Version: 1.26.0
Command: /Library/Frameworks/R.framework/Resources/bin/R CMD build --keep-empty-dirs --no-resave-data RandomWalkRestartMH
StartedAt: 2024-11-19 18:16:26 -0500 (Tue, 19 Nov 2024)
EndedAt: 2024-11-19 18:16:28 -0500 (Tue, 19 Nov 2024)
EllapsedTime: 2.3 seconds
RetCode: 1
Status: ERROR
PackageFile: None
PackageFileSize: NA