Package: RandomWalkRestartMH Version: 1.26.0 Command: /home/biocbuild/R/R/bin/R CMD INSTALL RandomWalkRestartMH StartedAt: 2025-02-17 21:24:05 -0000 (Mon, 17 Feb 2025) EndedAt: 2025-02-17 21:24:05 -0000 (Mon, 17 Feb 2025) EllapsedTime: 0.3 seconds RetCode: 1 Status: ERROR