Package: RankProd Version: 3.32.0 Command: /Library/Frameworks/R.framework/Resources/bin/R CMD check --install=check:RankProd.install-out.txt --library=/Library/Frameworks/R.framework/Resources/library --no-vignettes --timings RankProd_3.32.0.tar.gz StartedAt: 2025-02-05 06:43:17 -0500 (Wed, 05 Feb 2025) EndedAt: 2025-02-05 06:44:02 -0500 (Wed, 05 Feb 2025) EllapsedTime: 45.1 seconds RetCode: 0 Status: OK CheckDir: RankProd.Rcheck Warnings: 0