Package: RankProd Version: 3.32.0 Command: /Library/Frameworks/R.framework/Resources/bin/R CMD INSTALL RankProd StartedAt: 2025-02-03 15:11:52 -0500 (Mon, 03 Feb 2025) EndedAt: 2025-02-03 15:11:57 -0500 (Mon, 03 Feb 2025) EllapsedTime: 5.9 seconds RetCode: 0 Status: OK