Package: RankProd
Version: 3.32.0
Command: /home/biocbuild/bbs-3.20-bioc/R/bin/R CMD check --install=check:RankProd.install-out.txt --library=/home/biocbuild/bbs-3.20-bioc/R/site-library --timings RankProd_3.32.0.tar.gz
StartedAt: 2025-02-18 01:15:56 -0500 (Tue, 18 Feb 2025)
EndedAt: 2025-02-18 01:16:38 -0500 (Tue, 18 Feb 2025)
EllapsedTime: 42.1 seconds
RetCode: 0
Status: OK
CheckDir: RankProd.Rcheck
Warnings: 0