Package: RankProd Version: 3.32.0 Command: chmod a+r RankProd -R && F:\biocbuild\bbs-3.20-bioc\R\bin\R.exe CMD build --keep-empty-dirs --no-resave-data RankProd StartedAt: 2025-02-03 21:29:59 -0500 (Mon, 03 Feb 2025) EndedAt: 2025-02-03 21:30:18 -0500 (Mon, 03 Feb 2025) EllapsedTime: 19.1 seconds RetCode: 0 Status: OK PackageFile: RankProd_3.32.0.tar.gz PackageFileSize: 653.6 KiB