Package: RankProd Version: 3.32.0 Command: F:\biocbuild\bbs-3.20-bioc\R\bin\R.exe CMD INSTALL RankProd StartedAt: 2025-02-03 15:32:53 -0500 (Mon, 03 Feb 2025) EndedAt: 2025-02-03 15:33:20 -0500 (Mon, 03 Feb 2025) EllapsedTime: 27.0 seconds RetCode: 0 Status: OK