Package: Rarr Version: 1.6.0 Command: /Library/Frameworks/R.framework/Resources/bin/R CMD check --install=check:Rarr.install-out.txt --library=/Library/Frameworks/R.framework/Resources/library --no-vignettes --timings Rarr_1.6.0.tar.gz StartedAt: 2025-02-05 06:43:58 -0500 (Wed, 05 Feb 2025) EndedAt: 2025-02-05 06:46:22 -0500 (Wed, 05 Feb 2025) EllapsedTime: 144.0 seconds RetCode: 0 Status: OK CheckDir: Rarr.Rcheck Warnings: 0