Package: Rarr Version: 1.6.0 Command: /Library/Frameworks/R.framework/Resources/bin/R CMD INSTALL Rarr StartedAt: 2025-02-03 16:16:23 -0500 (Mon, 03 Feb 2025) EndedAt: 2025-02-03 16:17:22 -0500 (Mon, 03 Feb 2025) EllapsedTime: 59.3 seconds RetCode: 0 Status: OK